BEGIN:VCALENDAR
VERSION:2.0
PRODID:-//Mayfield Village - ECPv6.15.20//NONSGML v1.0//EN
CALSCALE:GREGORIAN
METHOD:PUBLISH
X-WR-CALNAME:Mayfield Village
X-ORIGINAL-URL:https://mayfieldvillage.com
X-WR-CALDESC:Events for Mayfield Village
REFRESH-INTERVAL;VALUE=DURATION:PT1H
X-Robots-Tag:noindex
X-PUBLISHED-TTL:PT1H
BEGIN:VTIMEZONE
TZID:America/New_York
BEGIN:DAYLIGHT
TZOFFSETFROM:-0500
TZOFFSETTO:-0400
TZNAME:EDT
DTSTART:20240310T070000
END:DAYLIGHT
BEGIN:STANDARD
TZOFFSETFROM:-0400
TZOFFSETTO:-0500
TZNAME:EST
DTSTART:20241103T060000
END:STANDARD
BEGIN:DAYLIGHT
TZOFFSETFROM:-0500
TZOFFSETTO:-0400
TZNAME:EDT
DTSTART:20250309T070000
END:DAYLIGHT
BEGIN:STANDARD
TZOFFSETFROM:-0400
TZOFFSETTO:-0500
TZNAME:EST
DTSTART:20251102T060000
END:STANDARD
BEGIN:DAYLIGHT
TZOFFSETFROM:-0500
TZOFFSETTO:-0400
TZNAME:EDT
DTSTART:20260308T070000
END:DAYLIGHT
BEGIN:STANDARD
TZOFFSETFROM:-0400
TZOFFSETTO:-0500
TZNAME:EST
DTSTART:20261101T060000
END:STANDARD
END:VTIMEZONE
BEGIN:VEVENT
DTSTART;TZID=America/New_York:20250707T180000
DTEND;TZID=America/New_York:20250707T190000
DTSTAMP:20260419T130312
CREATED:20250630T171057Z
LAST-MODIFIED:20250630T171057Z
UID:10000272-1751911200-1751914800@mayfieldvillage.com
SUMMARY:Planning & Zoning
DESCRIPTION:For information on P&Z\, please contact Debbie Garbo at 440.461.2213. Meetings start at 6PM and may run shorter or longer than the allotted time slot.
URL:https://mayfieldvillage.com/event/planning-zoning-16/
LOCATION:Civic Center\, 6622 Wilson Mills Rd\, Mayfield\, OH\, 44143\, United States
CATEGORIES:Council and committees
ORGANIZER;CN="Debbie Garbo":MAILTO:dgarbo@mayfieldvillage.com
END:VEVENT
BEGIN:VEVENT
DTSTART;TZID=America/New_York:20250707T190000
DTEND;TZID=America/New_York:20250707T200000
DTSTAMP:20260419T130312
CREATED:20241217T150450Z
LAST-MODIFIED:20250703T135202Z
UID:10000188-1751914800-1751918400@mayfieldvillage.com
SUMMARY:Council Caucus
DESCRIPTION:For information on Council Caucus meetings\, please contact Mary E. Betsa at 440.461.0862. Meeting begins 7:00PM and may run shorter or longer than the allotted time slot. \nAgenda: \n\nRemarks by John Brad Deane from the office of Congresswoman Shontel Brown\n\nPending Legislation: \n\nOrdinance No. 2025-05\, entitled\, “An Ordinance amending Codified Ordinance Section 1185.11(a)(4) relating to signage in local business\, small office building\, motorist service\, office laboratory and production distribution districts.” Introduced by Mayor Bodnar (Administration). (First Reading – May 20\, 2025; Second Reading – June 16\, 2025) (Upon Third Reading and passage\, this legislation will take effect immediately upon signature of the Mayor.)\nOrdinance No. 2025-07\, entitled\, “An Ordinance amending the Village Charter to permit Village Council to meet virtually in limited circumstances.”  Introduced by Mayor Bodnar (Administration). (First Reading – June 16\, 2025; Public Hearing August 18th) (Upon Third Reading and passage and upon signature of the Mayor\, this legislation will be submitted to the electors for a vote.)\nOrdinance No. 2025-08\, entitled\, “An Ordinance amending the Village Charter to update the public notice and hearing provisions for certain Ordinances to require notice on digital platforms as well as in a newspaper of general circulation.” Introduced by Mayor Bodnar (Administration). (First Reading – June 16\, 2025; Public Hearing August 18th) (Upon Third Reading and passage and upon signature of the Mayor\, this legislation will be submitted to the electors for a vote.)\nOrdinance No. 2025-09\, entitled\, “An Ordinance amending the Village Charter to clarify which Administrative positions are included in the classified service and unclassified service and subject to Civil Service.”  Introduced by Mayor Bodnar (Administration). (First Reading – June 16\, 2025; Public Hearing August 18th)  (Upon Third Reading and passage and upon signature of the Mayor\, this legislation will be submitted to the electors for a vote.)\nOrdinance No. 2025-010\, entitled\, “An Ordinance amending the Village Charter to remove the ability of the Board of Zoning Appeals to grant use variances in non-residential districts.” Introduced by Mayor Bodnar (Administration).  (First Reading – June 16\, 2025; Public Hearing August 18th) (Upon Third Reading and passage and upon signature of the Mayor\, this legislation will be submitted to the electors for a vote.)\nOrdinance No. 2025-11\, entitled\, “An Ordinance amending the Village Charter to remove all references to January 1\, 1975 and replace them with “the effective date of this Charter.” Introduced by Mayor Bodnar (Administration). (First Reading – June 16\, 2025; Public Hearing August 18th) (Upon Third Reading and passage and upon signature of the Mayor\, this legislation will be submitted to the electors for a vote.)\nOrdinance No. 2025-12\, entitled\, “An Ordinance amending the Village Charter to remove the requirement for a Petitioner’s Committee for Nominating and other Petitions.”  Introduced by Mayor Bodnar (Administration). (First Reading – June 16\, 2025; Public Hearing August 18th) (Upon Third Reading and passage and upon signature of the Mayor\, this legislation will be submitted to the electors for a vote.)\nOrdinance No. 2025-13\, entitled\, “An Ordinance amending the Mayfield Village Codified Ordinance Section 1153.02(g) relating to Class U-7 Prohibited Uses to prohibit any additional assisted living\, memory care and/or nursing home facilities in the Village.” Introduced by Mayor Bodnar (Administration).  (First Reading – June 16\, 2025) (Ordinance 2025-13 will be referred to Planning and Zoning. After recommendation from the Planning Commission\, and upon Third Reading and passage\, this legislation will take effect immediately upon signature of the Mayor. )\n\nNew Business: \n\nSchool Resource Officer Agreement with Mayfield City School District for 2025-26  (Resolution 2025-35) (Administration)\nServer Replacement (All Covered) (Administration)\nCintas Uniform Agreement Renewal (Service)\nDump body\, plow and salt spreader installation on new Dump Truck (Service)\nHVAC Maintenance Contract for all Village Facilities (R&D Heating and Sheet Metal Co.\, Inc. – $23\,805.00)  (Service)\n\nAny other matter
URL:https://mayfieldvillage.com/event/council-caucus-25/
LOCATION:Civic Center\, 6622 Wilson Mills Rd\, Mayfield\, OH\, 44143\, United States
CATEGORIES:Council and committees
ORGANIZER;CN="Mary E. Betsa":MAILTO:mbetsa@mayfieldvillage.com
END:VEVENT
BEGIN:VEVENT
DTSTART;TZID=America/New_York:20250710T180000
DTEND;TZID=America/New_York:20250710T190000
DTSTAMP:20260419T130312
CREATED:20250702T135101Z
LAST-MODIFIED:20250702T135101Z
UID:10000273-1752170400-1752174000@mayfieldvillage.com
SUMMARY:Architectural Review Board
DESCRIPTION:For information on ARB\, please contact Debbie Garbo at 440.461.2213. Meetings start at 6PM and may run shorter or longer than the allotted time slot. \nAgenda: \nConsideration of minutes: June 12\, 2025 \nProposals: \n\nSignage\na) Canopy\nb) Monument\nProcess Technology\n6680 Beta Dr.\nCicogna Electric & Sign Co. dba Cesco Imaging\nSign Panel Replacement\nTrue North Energy\n6668 Wilson Mills Rd.\nCicogna Electric & Sign Co. dba Cesco Imaging
URL:https://mayfieldvillage.com/event/architectural-review-board-48/
LOCATION:Civic Center\, 6622 Wilson Mills Rd\, Mayfield\, OH\, 44143\, United States
CATEGORIES:Council and committees
ORGANIZER;CN="Debbie Garbo":MAILTO:dgarbo@mayfieldvillage.com
END:VEVENT
BEGIN:VEVENT
DTSTART;TZID=America/New_York:20250715T180000
DTEND;TZID=America/New_York:20250715T190000
DTSTAMP:20260419T130312
CREATED:20250107T150005Z
LAST-MODIFIED:20250703T135140Z
UID:10000215-1752602400-1752606000@mayfieldvillage.com
SUMMARY:Board of Zoning Appeals
DESCRIPTION:For information on BZA\, please contact Debbie Garbo at 440.461.2213. Meetings start at 6PM and may run shorter or longer than the allotted time slot. \nAgenda: \nConsideration of Minutes: February 18th\, 2025 \nConsideration of Case #2025-03: \nApplicant:\nAndrew & Yamila Stankus\n6714 Sandalwood Dr. 44040\nPP#: 831-24-097 \n\nA request for a 9’ variance from Section 1119.09 (c) to allow for a driveway extension 30 feet back from the front of garage.\n\nAbutting Property Owners:\nSandalwood Dr.: 6722\, 6730\, 6706\, 6696\, 6719\, 6703\, 6695 \nConsideration of Case #2025-04: \nApplicant:\nProcess Technology\n6680 Beta Dr. 44143\nPP#: 831-13-016\nCesco Imaging \n\nA request for a 13.8 sq ft variance from Section 1185.11 (a) (1) to allow for an 18.8 sq ft Canopy Sign. (ARB 7/10/25)\nA request for a 1’ vertical height variance from Section 1185.11 (a) (1) to allow for a 2’ vertical height Canopy Sign. (ARB 7/10/25)\nA request for a 3’ 5” horizontal dimension variance from Section 1185.11 (a) (1) to allow for a 9’ 5” horizontal Canopy Sign. (ARB 7/10/25)\n\nAbutting Property Owners:\nBeta Dr: 6671\, 767\, 701\, 600\, 700\, 739\, 6685\, 6650\, 660\, 6670\, 681\, 780\, 651
URL:https://mayfieldvillage.com/event/board-of-zoning-appeals-24/
LOCATION:Civic Center\, 6622 Wilson Mills Rd\, Mayfield\, OH\, 44143\, United States
CATEGORIES:Council and committees
ORGANIZER;CN="Debbie Garbo":MAILTO:dgarbo@mayfieldvillage.com
END:VEVENT
BEGIN:VEVENT
DTSTART;TZID=America/New_York:20250717T180000
DTEND;TZID=America/New_York:20250717T190000
DTSTAMP:20260419T130312
CREATED:20250707T181539Z
LAST-MODIFIED:20250707T181539Z
UID:10000274-1752775200-1752778800@mayfieldvillage.com
SUMMARY:Planning & Zoning
DESCRIPTION:For information on P&Z\, please contact Debbie Garbo at 440.461.2213. Meetings start at 6PM and may run shorter or longer than the allotted time slot. \nAgenda: \nProposal: \n\nCouncil referral to Planning and Zoning Commission for Review and Recommendation;\n\nOrdinance No. 2025-13\, entitled\, “An Ordinance Amending the Mayfield Village Codified Ordinance Section 1153.02 (g) Relating to Class U-7 Prohibited Uses to Prohibit Any Additional Assisted Living\, Memory Care And /Or Nursing Home Facilities In The Village”
URL:https://mayfieldvillage.com/event/planning-zoning-17/
LOCATION:Civic Center\, 6622 Wilson Mills Rd\, Mayfield\, OH\, 44143\, United States
CATEGORIES:Council and committees
ORGANIZER;CN="Debbie Garbo":MAILTO:dgarbo@mayfieldvillage.com
END:VEVENT
BEGIN:VEVENT
DTSTART;TZID=America/New_York:20250721T190000
DTEND;TZID=America/New_York:20250721T200000
DTSTAMP:20260419T130312
CREATED:20241217T151856Z
LAST-MODIFIED:20250721T165600Z
UID:10000200-1753124400-1753128000@mayfieldvillage.com
SUMMARY:Council
DESCRIPTION:For information on Council meetings\, please contact Mary E. Betsa at 440.461.0862. Meeting begins 7:00PM and may run shorter or longer than the allotted time slot. \nAgenda: \nCall to Order/Roll Call \nPledge of Allegiance \nConsideration of Minutes: Council 6.16.25 \nComments from Mayor \nComments from Council President \nDepartment Head Reports \nOld Business: \n\nThird Reading of Ordinance No. 2025-05\, entitled\, “An Ordinance amending Codified Ordinance Section 1185.11(a)(4) relating to signage in local business\, small office building\, motorist service\, office laboratory and production distribution districts.” Introduced by Mayor Bodnar (Administration). (First Reading – May 20\, 2025; Second Reading – June 16\, 2025) (Upon Third Reading and assuming passage\, this legislation will take effect immediately upon signature of the Mayor.)\nSecond Reading of Ordinance No. 2025-07\, entitled\, “An Ordinance amending the Village Charter to permit Village Council to meet virtually in limited circumstances.”  Introduced by Mayor Bodnar (Administration). (First Reading – June 16\, 2025; Public Hearing August 18th) (Upon Third Reading and assuming passage and upon signature of the Mayor\, this legislation will be submitted to the electors for a vote.)\nSecond Reading of Ordinance No. 2025-08\, entitled\, “An Ordinance amending the Village Charter to update the public notice and hearing provisions for certain Ordinances to require notice on digital platforms as well as in a newspaper of general circulation.” Introduced by Mayor Bodnar (Administration). (First Reading – June 16\, 2025; Public Hearing August 18th) (Upon Third Reading and assuming passage and upon signature of the Mayor\, this legislation will be submitted to the electors for a vote.)\nSecond Reading of Ordinance No. 2025-09\, entitled\, “An Ordinance amending the Village Charter to clarify which Administrative positions are included in the classified service and unclassified service and subject to Civil Service.”  Introduced by Mayor Bodnar (Administration). (First Reading – June 16\, 2025; Public Hearing August 18th)  (Upon Third Reading and assuming passage and upon signature of the Mayor\, this legislation will be submitted to the electors for a vote.)\nSecond Reading of Ordinance No. 2025-010\, entitled\, “An Ordinance amending the Village Charter to remove the ability of the Board of Zoning Appeals to grant use variances in non-residential districts.” Introduced by Mayor Bodnar (Administration).  (First Reading – June 16\, 2025; Public Hearing August 18th) (Upon Third Reading and assuming passage and upon signature of the Mayor\, this legislation will be submitted to the electors for a vote.)\nSecond Reading of Ordinance No. 2025-11\, entitled\, “An Ordinance amending the Village Charter to remove all references to January 1\, 1975 and replace them with “the effective date of this Charter.” Introduced by Mayor Bodnar (Administration). (First Reading – June 16\, 2025; Public Hearing August 18th) (Upon Third Reading and assuming passage and upon signature of the Mayor\, this legislation will be submitted to the electors for a vote.)\nSecond Reading of Ordinance No. 2025-12\, entitled\, “An Ordinance amending the Village Charter to remove the requirement for a Petitioner’s Committee for Nominating and other Petitions.”  Introduced by Mayor Bodnar (Administration). (First Reading – June 16\, 2025; Public Hearing August 18th) (Upon Third Reading and assuming passage and upon signature of the Mayor\, this legislation will be submitted to the electors for a vote.)\nSecond Reading of Ordinance No. 2025-13\, entitled\, “An Ordinance amending the Mayfield Village Codified Ordinance Section 1153.02(g) relating to Class U-7 Prohibited Uses to prohibit any additional assisted living\, memory care and/or nursing home facilities in the Village.” Introduced by Mayor Bodnar (Administration).  (First Reading – June 16\, 2025) (Ordinance 2025-13 was referred to Planning and Zoning. After recommendation from the Planning Commission\, and Upon Third Reading and assuming passage\, this legislation will take effect immediately upon signature of the Mayor. )\n\nNew Business: \n\nFirst Reading of Ordinance No. 2025-14\, entitled\, “An Emergency Ordinance to approve current replacement pages to the Mayfield Village Codified Ordinances.” Introduced by Mayor Bodnar (Administration).  (Requires suspension of the rules tonight and upon passage this legislation will take effect immediately upon signature of the Mayor.)\nFirst Reading of Resolution No. 2025-35\, entitled\, “An emergency resolution authorizing Mayfield Village to enter into the School Resource Officer Memorandum of Understanding with Mayfield Schools.” Introduced by Mayor Bodnar (Finance Department). (Requires suspension of the rules tonight and upon passage this legislation will take effect immediately upon signature of the Mayor.)\nFirst Reading of Resolution No. 2025-36\, entitled\, “An emergency resolution authorizing Mayfield Village to accept the proposal of Classic Ford for engine replacement on a Ford Super Duty F-45 Truck in an amount not to exceed $16\,000.00.” Introduced by Mayor Bodnar (Finance Department). (Requires suspension of the rules tonight and upon passage this legislation will take effect immediately upon signature of the Mayor.)\nFirst Reading of Resolution No. 2025-37\, entitled\, “An emergency resolution authorizing Mayfield Village to enter into a one-year service and routine maintenance agreement with R&D Heating and Sheet Metal Co.\, Inc. for the HVAC Systems in all Village facilities in the amount of $23\,805.00.” Introduced by Mayor Bodnar (Finance Department). (Requires suspension of the rules tonight and upon passage this legislation will take effect immediately upon signature of the Mayor.)\nFirst Reading of Resolution No. 2025-38\, entitled\, “An emergency resolution authorizing Mayfield Village to enter into a contract with O’Reilly Equipment for upfitting the F600 truck with dump and snow removal equipment in the amount of $42\,249.17.” Introduced by Mayor Bodnar (Finance Department). (Requires suspension of the rules tonight and upon passage this legislation will take effect immediately upon signature of the Mayor.)\nMotion to acknowledge receipt of financial reports for June 2025 and to approve of same as submitted.  (Finance Department)\n\nExecutive Session: \n\nMotion to enter into Executive Session pursuant to Ohio Revised Code Section 121.22(G)(3) to confer with legal counsel for the public body concerning disputes involving the public body that are the subject of pending or imminent court action.\n\nAny other matter \nAdjournment
URL:https://mayfieldvillage.com/event/council-26/
LOCATION:Civic Center\, 6622 Wilson Mills Rd\, Mayfield\, OH\, 44143\, United States
CATEGORIES:Council and committees
ORGANIZER;CN="Mary E. Betsa":MAILTO:mbetsa@mayfieldvillage.com
END:VEVENT
BEGIN:VEVENT
DTSTART;TZID=America/New_York:20250724T180000
DTEND;TZID=America/New_York:20250724T190000
DTSTAMP:20260419T130312
CREATED:20250711T122105Z
LAST-MODIFIED:20250711T122105Z
UID:10000275-1753380000-1753383600@mayfieldvillage.com
SUMMARY:Architectural Review Board
DESCRIPTION:For information on ARB\, please contact Debbie Garbo at 440.461.2213. Meetings start at 6PM and may run shorter or longer than the allotted time slot.
URL:https://mayfieldvillage.com/event/architectural-review-board-49/
LOCATION:Civic Center\, 6622 Wilson Mills Rd\, Mayfield\, OH\, 44143\, United States
CATEGORIES:Council and committees
ORGANIZER;CN="Debbie Garbo":MAILTO:dgarbo@mayfieldvillage.com
END:VEVENT
END:VCALENDAR