BEGIN:VCALENDAR
VERSION:2.0
PRODID:-//Mayfield Village - ECPv6.15.20//NONSGML v1.0//EN
CALSCALE:GREGORIAN
METHOD:PUBLISH
X-ORIGINAL-URL:https://mayfieldvillage.com
X-WR-CALDESC:Events for Mayfield Village
REFRESH-INTERVAL;VALUE=DURATION:PT1H
X-Robots-Tag:noindex
X-PUBLISHED-TTL:PT1H
BEGIN:VTIMEZONE
TZID:America/New_York
BEGIN:DAYLIGHT
TZOFFSETFROM:-0500
TZOFFSETTO:-0400
TZNAME:EDT
DTSTART:20240310T070000
END:DAYLIGHT
BEGIN:STANDARD
TZOFFSETFROM:-0400
TZOFFSETTO:-0500
TZNAME:EST
DTSTART:20241103T060000
END:STANDARD
BEGIN:DAYLIGHT
TZOFFSETFROM:-0500
TZOFFSETTO:-0400
TZNAME:EDT
DTSTART:20250309T070000
END:DAYLIGHT
BEGIN:STANDARD
TZOFFSETFROM:-0400
TZOFFSETTO:-0500
TZNAME:EST
DTSTART:20251102T060000
END:STANDARD
BEGIN:DAYLIGHT
TZOFFSETFROM:-0500
TZOFFSETTO:-0400
TZNAME:EDT
DTSTART:20260308T070000
END:DAYLIGHT
BEGIN:STANDARD
TZOFFSETFROM:-0400
TZOFFSETTO:-0500
TZNAME:EST
DTSTART:20261101T060000
END:STANDARD
END:VTIMEZONE
BEGIN:VEVENT
DTSTART;TZID=America/New_York:20250804T180000
DTEND;TZID=America/New_York:20250804T190000
DTSTAMP:20260425T080545
CREATED:20250729T121118Z
LAST-MODIFIED:20250729T121118Z
UID:10000276-1754330400-1754334000@mayfieldvillage.com
SUMMARY:Planning & Zoning Commission
DESCRIPTION:For information on P&Z\, please contact Debbie Garbo at 440.461.2213. Meetings start at 6PM and may run shorter or longer than the allotted time slot. \nAgenda: \nConsideration of minutes: May 5\, 2025 \nProposal: \n\nCouncil referral to Planning and Zoning Commission for Review and Recommendation;\nOrdinance No. 2025-13\, entitled\,                \n“An Ordinance Amending the Mayfield Village Codified Ordinance Section 1153.02 (g) Relating to Class U-7 Prohibited Uses to Prohibit Any Additional Assisted Living\, Memory Care And/Or Nursing Home Facilities In The Village”\n\n 
URL:https://mayfieldvillage.com/event/planning-zoning-commission-34/
LOCATION:Civic Center\, 6622 Wilson Mills Rd\, Mayfield\, OH\, 44143\, United States
CATEGORIES:Council and committees
ORGANIZER;CN="Debbie Garbo":MAILTO:dgarbo@mayfieldvillage.com
END:VEVENT
BEGIN:VEVENT
DTSTART;TZID=America/New_York:20250804T190000
DTEND;TZID=America/New_York:20250804T200000
DTSTAMP:20260425T080545
CREATED:20241217T150617Z
LAST-MODIFIED:20250801T151626Z
UID:10000189-1754334000-1754337600@mayfieldvillage.com
SUMMARY:July Council
DESCRIPTION:For information on Council or Caucus meetings\, please contact Mary E. Betsa at 440.461.0862. Meeting begins 7:00PM and may run shorter or longer than the allotted time slot. \nAgenda: \nCall to Order/Roll Call \nPledge of Allegiance \nConsideration of Minutes: June 16\, 2025 \nComments from Mayor/Council President \nOpen Portion: For Public Comment (5 minute limit) \nDepartment Head Reports \nOld Business: \n\nThird Reading of Ordinance No. 2025-05\, entitled\, “An Ordinance amending Codified Ordinance Section 1185.11(a)(4) relating to signage in local business\, small office building\, motorist service\, office laboratory and production distribution districts.” Introduced by Mayor Bodnar (Administration). (First Reading – May 20\, 2025; Second Reading – June 16\, 2025) (Upon Third Reading and assuming passage\, this legislation will take effect immediately upon signature of the Mayor.)\nSecond Reading of Ordinance No. 2025-07\, entitled\, “An Ordinance amending the Village Charter to permit Village Council to meet virtually in limited circumstances.”  Introduced by Mayor Bodnar (Administration). (First Reading – June 16\, 2025; Public Hearing August 18th) (Upon Third Reading and assuming passage and upon signature of the Mayor\, this legislation will be submitted to the electors for a vote.)\nSecond Reading of Ordinance No. 2025-08\, entitled\, “An Ordinance amending the Village Charter to update the public notice and hearing provisions for certain Ordinances to require notice on digital platforms as well as in a newspaper of general circulation.” Introduced by Mayor Bodnar (Administration). (First Reading – June 16\, 2025; Public Hearing August 18th) (Upon Third Reading and assuming passage and upon signature of the Mayor\, this legislation will be submitted to the electors for a vote.)\nSecond Reading of Ordinance No. 2025-09\, entitled\, “An Ordinance amending the Village Charter to clarify which Administrative positions are included in the classified service and unclassified service and subject to Civil Service.”  Introduced by Mayor Bodnar (Administration). (First Reading – June 16\, 2025; Public Hearing August 18th)  (Upon Third Reading and assuming passage and upon signature of the Mayor\, this legislation will be submitted to the electors for a vote.)\nSecond Reading of Ordinance No. 2025-10\, entitled\, “An Ordinance amending the Village Charter to remove the ability of the Board of Zoning Appeals to grant use variances in non-residential districts.” Introduced by Mayor Bodnar (Administration).  (First Reading – June 16\, 2025; Public Hearing August 18th) (Upon Third Reading and assuming passage and upon signature of the Mayor\, this legislation will be submitted to the electors for a vote.)\nSecond Reading of Ordinance No. 2025-11\, entitled\, “An Ordinance amending the Village Charter to remove all references to January 1\, 1975 and replace them with “the effective date of this Charter.” Introduced by Mayor Bodnar (Administration). (First Reading – June 16\, 2025; Public Hearing August 18th) (Upon Third Reading and assuming passage and upon signature of the Mayor\, this legislation will be submitted to the electors for a vote.)\nSecond Reading of Ordinance No. 2025-12\, entitled\, “An Ordinance amending the Village Charter to remove the requirement for a Petitioner’s Committee for Nominating and other Petitions.”  Introduced by Mayor Bodnar (Administration). (First Reading – June 16\, 2025; Public Hearing August 18th) (Upon Third Reading and assuming passage and upon signature of the Mayor\, this legislation will be submitted to the electors for a vote.)\nSecond Reading of Ordinance No. 2025-13\, entitled\, “An Ordinance amending the Mayfield Village Codified Ordinance Section 1153.02(g) relating to Class U-7 Prohibited Uses to prohibit any additional assisted living\, memory care and/or nursing home facilities in the Village.” Introduced by Mayor Bodnar (Administration).  (First Reading – June 16\, 2025) (Ordinance 2025-13 was referred to Planning and Zoning. After recommendation from the Planning Commission\, and Upon Third Reading and assuming passage\, this legislation will take effect immediately upon signature of the Mayor.)\n\nNew Business: \n\nFirst Reading of Ordinance No. 2025-14\, entitled\, “An Emergency Ordinance to approve current replacement pages to the Mayfield Village Codified Ordinances.” Introduced by Mayor Bodnar (Administration). (Requires suspension of the rules tonight and upon passage this legislation will take effect immediately upon signature of the Mayor.)\nFirst Reading of Resolution No. 2025-35\, entitled\, “An emergency resolution authorizing Mayfield Village to enter into the School Resource Officer Memorandum of Understanding with Mayfield Schools.” Introduced by Mayor Bodnar (Finance Department). (Requires suspension of the rules tonight and upon passage this legislation will take effect immediately upon signature of the Mayor.)\nFirst Reading of Resolution No. 2025-36\, entitled\, “An emergency resolution authorizing Mayfield Village to accept the proposal of Classic Ford for engine replacement on a Ford Super Duty F-45 Truck in an amount not to exceed $16\,000.00.” Introduced by Mayor Bodnar (Finance Department). (Requires suspension of the rules tonight and upon passage this legislation will take effect immediately upon signature of the Mayor.)\nFirst Reading of Resolution No. 2025-37\, entitled\, “An emergency resolution authorizing Mayfield Village to enter into a one-year service and routine maintenance agreement with R&D Heating and Sheet Metal Co.\, Inc. for the HVAC Systems in all Village facilities in the amount of $23\,805.00.” Introduced by Mayor Bodnar (Finance Department). (Requires suspension of the rules tonight and upon passage this legislation will take effect immediately upon signature of the Mayor.)\nFirst Reading of Resolution No. 2025-38\, entitled\, “An emergency resolution authorizing Mayfield Village to enter into a contract with O’Reilly Equipment for upfitting the F600 truck with dump and snow removal equipment in the amount of $42\,249.17.” Introduced by Mayor Bodnar (Finance Department). (Requires suspension of the rules tonight and upon passage this legislation will take effect immediately upon signature of the Mayor.)\nFirst Reading of Resolution No. 2025-39\, entitled\, “An emergency resolution authorizing the Mayor and President of Council to enter into an agreement with All Covered\, a division of Konica Minolta Business Solutions U.S.A.\, Inc. for the purchase and installation of a new Windows 2022 server and authorizing an expenditure in an amount not to exceed $36\,000.”  Introduced by Mayor Bodnar (Finance Department). (Requires suspension of the rules tonight and upon passage this legislation will take effect immediately upon signature of the Mayor.)\nMotion to acknowledge receipt of financial reports for June 2025 and to approve of same as submitted.  (Finance Department)\n\nExecutive Session: \n\nMotion to enter into Executive Session pursuant to Ohio Revised Code Section 121.22(G)(3) to confer with legal counsel for the public body concerning disputes involving the public body that are the subject of pending or imminent court action and Ohio Revised Code Section 121.22(G)(3) to consider the potential sale of real property.\n\nAny other matter \nAdournment
URL:https://mayfieldvillage.com/event/council-caucus-26/
LOCATION:Civic Center\, 6622 Wilson Mills Rd\, Mayfield\, OH\, 44143\, United States
CATEGORIES:Council and committees
ORGANIZER;CN="Mary E. Betsa":MAILTO:mbetsa@mayfieldvillage.com
END:VEVENT
BEGIN:VEVENT
DTSTART;TZID=America/New_York:20250804T190000
DTEND;TZID=America/New_York:20250804T200000
DTSTAMP:20260425T080545
CREATED:20250801T150020Z
LAST-MODIFIED:20250801T162625Z
UID:10000278-1754334000-1754337600@mayfieldvillage.com
SUMMARY:August Caucus
DESCRIPTION:For information on Council or Caucus meetings\, please contact Mary E. Betsa at 440.461.0862. Meeting begins 7:00PM and may run shorter or longer than the allotted time slot. \nAgenda: \nPending Legislation: \n\nOrdinance No. 2025-07\, entitled\, “An Ordinance amending the Village Charter to permit Village Council to meet virtually in limited circumstances.”  Introduced by Mayor Bodnar (Administration). (First Reading – June 16\, 2025; Second Reading – August 4\, 2025; Public Hearing August 18th) (Upon Third Reading and passage and upon signature of the Mayor\, this legislation will be submitted to the electors for a vote.)\nOrdinance No. 2025-08\, entitled\, “An Ordinance amending the Village Charter to update the public notice and hearing provisions for certain Ordinances to require notice on digital platforms as well as in a newspaper of general circulation.” Introduced by Mayor Bodnar (Administration). (First Reading – June 16\, 2025; Second Reading – August 4\, 2025; Public Hearing August 18th) (Upon Third Reading and passage and upon signature of the Mayor\, this legislation will be submitted to the electors for a vote.)\nOrdinance No. 2025-09\, entitled\, “An Ordinance amending the Village Charter to clarify which Administrative positions are included in the classified service and unclassified service and subject to Civil Service.”  Introduced by Mayor Bodnar (Administration). (First Reading – June 16\, 2025; Second Reading – August 4\, 2025; Public Hearing August 18th)  (Upon Third Reading and passage and upon signature of the Mayor\, this legislation will be submitted to the electors for a vote.)\nOrdinance No. 2025-10\, entitled\, “An Ordinance amending the Village Charter to remove the ability of the Board of Zoning Appeals to grant use variances in non-residential districts.” Introduced by Mayor Bodnar (Administration).  (First Reading – June 16\, 2025; Second Reading – August 4\, 2025; Public Hearing August 18th) (Upon Third Reading and passage and upon signature of the Mayor\, this legislation will be submitted to the electors for a vote.)\nOrdinance No. 2025-11\, entitled\, “An Ordinance amending the Village Charter to remove all references to January 1\, 1975 and replace them with “the effective date of this Charter.” Introduced by Mayor Bodnar (Administration). (First Reading – June 16\, 2025; Second Reading – August 4\, 2025; Public Hearing August 18th) (Upon Third Reading and passage and upon signature of the Mayor\, this legislation will be submitted to the electors for a vote.)\nOrdinance No. 2025-12\, entitled\, “An Ordinance amending the Village Charter to remove the requirement for a Petitioner’s Committee for Nominating and other Petitions.”  Introduced by Mayor Bodnar (Administration). (First Reading – June 16\, 2025; Second Reading – August 4\, 2025; Public Hearing August 18th) (Upon Third Reading and passage and upon signature of the Mayor\, this legislation will be submitted to the electors for a vote.)\nOrdinance No. 2025-13\, entitled\, “An Ordinance amending the Mayfield Village Codified Ordinance Section 1153.02(g) relating to Class U-7 Prohibited Uses to prohibit any additional assisted living\, memory care and/or nursing home facilities in the Village.” Introduced by Mayor Bodnar (Administration).  (First Reading – June 16\, 2025; Second Reading – August 4\, 2025) (Ordinance 2025-13 will be referred to Planning and Zoning. After recommendation from the Planning Commission\, and upon Third Reading and passage\, this legislation will take effect immediately upon signature of the Mayor.)\n\nNew Business: \n\nRepresentation of Indigent Defendants charged under Municipal Ordinances (Law Department)\nPurchase of 2025 Chevrolet Silverado with emergency lighting upfit (Tim Lally Chevrolet – $65\,161.53) (Police Department)\nAnnual Street Striping (Pat Flowers\, Inc. – $46\,006.68 )(Engineer)\nRoad Program – Asphalt maintenance and pavement repair throughout Village (Engineer)\nApproval of salt bid (Cargill – $63.99 a ton) (Service Department)\n\nAny other matter
URL:https://mayfieldvillage.com/event/august-caucus/
LOCATION:Civic Center\, 6622 Wilson Mills Rd\, Mayfield\, OH\, 44143\, United States
CATEGORIES:Council and committees
ORGANIZER;CN="Mary E. Betsa":MAILTO:mbetsa@mayfieldvillage.com
END:VEVENT
END:VCALENDAR