BEGIN:VCALENDAR
VERSION:2.0
PRODID:-//Mayfield Village - ECPv6.15.20//NONSGML v1.0//EN
CALSCALE:GREGORIAN
METHOD:PUBLISH
X-WR-CALNAME:Mayfield Village
X-ORIGINAL-URL:https://mayfieldvillage.com
X-WR-CALDESC:Events for Mayfield Village
REFRESH-INTERVAL;VALUE=DURATION:PT1H
X-Robots-Tag:noindex
X-PUBLISHED-TTL:PT1H
BEGIN:VTIMEZONE
TZID:America/New_York
BEGIN:DAYLIGHT
TZOFFSETFROM:-0500
TZOFFSETTO:-0400
TZNAME:EDT
DTSTART:20240310T070000
END:DAYLIGHT
BEGIN:STANDARD
TZOFFSETFROM:-0400
TZOFFSETTO:-0500
TZNAME:EST
DTSTART:20241103T060000
END:STANDARD
BEGIN:DAYLIGHT
TZOFFSETFROM:-0500
TZOFFSETTO:-0400
TZNAME:EDT
DTSTART:20250309T070000
END:DAYLIGHT
BEGIN:STANDARD
TZOFFSETFROM:-0400
TZOFFSETTO:-0500
TZNAME:EST
DTSTART:20251102T060000
END:STANDARD
BEGIN:DAYLIGHT
TZOFFSETFROM:-0500
TZOFFSETTO:-0400
TZNAME:EDT
DTSTART:20260308T070000
END:DAYLIGHT
BEGIN:STANDARD
TZOFFSETFROM:-0400
TZOFFSETTO:-0500
TZNAME:EST
DTSTART:20261101T060000
END:STANDARD
END:VTIMEZONE
BEGIN:VEVENT
DTSTART;TZID=America/New_York:20250715T180000
DTEND;TZID=America/New_York:20250715T190000
DTSTAMP:20260421T130224
CREATED:20250107T150005Z
LAST-MODIFIED:20250703T135140Z
UID:10000215-1752602400-1752606000@mayfieldvillage.com
SUMMARY:Board of Zoning Appeals
DESCRIPTION:For information on BZA\, please contact Debbie Garbo at 440.461.2213. Meetings start at 6PM and may run shorter or longer than the allotted time slot. \nAgenda: \nConsideration of Minutes: February 18th\, 2025 \nConsideration of Case #2025-03: \nApplicant:\nAndrew & Yamila Stankus\n6714 Sandalwood Dr. 44040\nPP#: 831-24-097 \n\nA request for a 9’ variance from Section 1119.09 (c) to allow for a driveway extension 30 feet back from the front of garage.\n\nAbutting Property Owners:\nSandalwood Dr.: 6722\, 6730\, 6706\, 6696\, 6719\, 6703\, 6695 \nConsideration of Case #2025-04: \nApplicant:\nProcess Technology\n6680 Beta Dr. 44143\nPP#: 831-13-016\nCesco Imaging \n\nA request for a 13.8 sq ft variance from Section 1185.11 (a) (1) to allow for an 18.8 sq ft Canopy Sign. (ARB 7/10/25)\nA request for a 1’ vertical height variance from Section 1185.11 (a) (1) to allow for a 2’ vertical height Canopy Sign. (ARB 7/10/25)\nA request for a 3’ 5” horizontal dimension variance from Section 1185.11 (a) (1) to allow for a 9’ 5” horizontal Canopy Sign. (ARB 7/10/25)\n\nAbutting Property Owners:\nBeta Dr: 6671\, 767\, 701\, 600\, 700\, 739\, 6685\, 6650\, 660\, 6670\, 681\, 780\, 651
URL:https://mayfieldvillage.com/event/board-of-zoning-appeals-24/
LOCATION:Civic Center\, 6622 Wilson Mills Rd\, Mayfield\, OH\, 44143\, United States
CATEGORIES:Council and committees
ORGANIZER;CN="Debbie Garbo":MAILTO:dgarbo@mayfieldvillage.com
END:VEVENT
END:VCALENDAR