BEGIN:VCALENDAR
VERSION:2.0
PRODID:-//Mayfield Village - ECPv6.15.20//NONSGML v1.0//EN
CALSCALE:GREGORIAN
METHOD:PUBLISH
X-ORIGINAL-URL:https://mayfieldvillage.com
X-WR-CALDESC:Events for Mayfield Village
REFRESH-INTERVAL;VALUE=DURATION:PT1H
X-Robots-Tag:noindex
X-PUBLISHED-TTL:PT1H
BEGIN:VTIMEZONE
TZID:America/New_York
BEGIN:DAYLIGHT
TZOFFSETFROM:-0500
TZOFFSETTO:-0400
TZNAME:EDT
DTSTART:20240310T070000
END:DAYLIGHT
BEGIN:STANDARD
TZOFFSETFROM:-0400
TZOFFSETTO:-0500
TZNAME:EST
DTSTART:20241103T060000
END:STANDARD
BEGIN:DAYLIGHT
TZOFFSETFROM:-0500
TZOFFSETTO:-0400
TZNAME:EDT
DTSTART:20250309T070000
END:DAYLIGHT
BEGIN:STANDARD
TZOFFSETFROM:-0400
TZOFFSETTO:-0500
TZNAME:EST
DTSTART:20251102T060000
END:STANDARD
BEGIN:DAYLIGHT
TZOFFSETFROM:-0500
TZOFFSETTO:-0400
TZNAME:EDT
DTSTART:20260308T070000
END:DAYLIGHT
BEGIN:STANDARD
TZOFFSETFROM:-0400
TZOFFSETTO:-0500
TZNAME:EST
DTSTART:20261101T060000
END:STANDARD
END:VTIMEZONE
BEGIN:VEVENT
DTSTART;TZID=America/New_York:20250602T180000
DTEND;TZID=America/New_York:20250602T190000
DTSTAMP:20260419T162047
CREATED:20250519T152455Z
LAST-MODIFIED:20250519T152455Z
UID:10000265-1748887200-1748890800@mayfieldvillage.com
SUMMARY:Planning & Zoning
DESCRIPTION:For information on P&Z\, please contact Debbie Garbo at 440.461.2213. Meetings start at 6PM and may run shorter or longer than the allotted time slot.
URL:https://mayfieldvillage.com/event/planning-zoning-14/
LOCATION:Civic Center\, 6622 Wilson Mills Rd\, Mayfield\, OH\, 44143\, United States
CATEGORIES:Council and committees
ORGANIZER;CN="Debbie Garbo":MAILTO:dgarbo@mayfieldvillage.com
END:VEVENT
BEGIN:VEVENT
DTSTART;TZID=America/New_York:20250602T190000
DTEND;TZID=America/New_York:20250602T200000
DTSTAMP:20260419T162047
CREATED:20241217T150403Z
LAST-MODIFIED:20250529T173140Z
UID:10000187-1748890800-1748894400@mayfieldvillage.com
SUMMARY:Caucus/Special Council
DESCRIPTION:For information on the Council Caucus or the Special Council meetings\, please contact Mary E. Betsa at 440.461.0862. Meeting begins 7:00PM and may run shorter or longer than the allotted time slot. \nCaucus Agenda: \nPending Legislation: \n\nOrdinance No. 2025-03\, entitled\, “An Ordinance Revising the Zone Map Of Mayfield Village So As To Amend The Zoning Classification Of 15.6 Acres Of Land Located South Of White Road And West Of North Commons Boulevard And Known As Permanent Parcel Numbers 831-04-001\, 831-04-002\, 831-04-003\, 831-05-001\, 831-05-002\, 831-05-003\, And 831-05-004 From Its Current Residential Classification To Production Distribution.” Introduced by Mayor Bodnar (Administration). (First Reading – March 18\, 2025; Second Reading – April 21st; Public Hearing June 16th; Third Reading June 16th) (Upon Third Reading and passage\, and upon signature of the Mayor\, this legislation will be submitted to the electors for a vote.)\nOrdinance No. 2025-05\, entitled\, “An Ordinance amending Codified Ordinance Section 1185.11(a)(4) relating to signage in local business\, small office building\, motorist service\, office laboratory and production distribution districts.” Introduced by Mayor Bodnar (Administration). (First Reading – May 20\, 2025) (Upon Third Reading and passage\, this legislation will take effect immediately upon signature of the Mayor.)\n\nNew Business: \n\nCharter Review Commission Report and Proposed Amendments\nMemorandum of Understanding with Case Western Reserve University to Raise Awareness of Skin Cancer and Melanoma and Provide Free Sunscreen for Visitors at Parkview Pool and Adjacent Recreation Areas (Resolution 2025-27) (Recreation). (Special Meeting following Caucus to approve this item).\nApproval of Solid Waste District Management Plan (Resolution 2025-28) (Admin/Engineer)\nLegislation to participate in ODOT’s Cooperative Purchasing Program (Resolution 2025-29) (Admin/Engineer)\nCounty Master Cooperation Agreement for Pavement Preventative Maintenance Services (Resolution 2025-30) (Admin/Engineer)\nOrdinance to place permanent ban on assisted living\, memory care and/or nursing home facilities in Mayfield Village and referral to Planning & Zoning for Report & Recommendation pursuant to Article III\, Section 11 of the Mayfield Village Charter (Law)\nRenewal of Property and Casualty Insurance (Wichert Insurance – July 2025-June 2026) (Finance)\nAlternative Tax Budget (Finance)\nFire Department Kitchen Remodel (Millstone Management – Approval of $29\,480.00 plus a 10% contingency for a total expenditure not to exceed $32\,428.00 (Fire)\nFire Department Door Replacement plus Saltguard (Panzica Construction – Approval of $40\,800.00 plus a 10% contingency for a total expenditure not to exceed $44\,880.00 (Fire)\nIntegrity Cleaning – Auto-renewal of Cleaning Services Agreement for Civic Center and Community Room from July 1\, 2025 through June 30\, 2026 ($20\,735.04 annually for Civic Center and $22\,669.32 annually for the Community Room for a total expenditure of $43\,404.36) (Admin/Service)\nIT Services Renewal – All Covered/Konica Minolta for services from July 2025 through July 2026 in an amount not to exceed $32\,000.00 (Admin)\n\nAny other matter \nSpecial Council Agenda: \nCall to Order/Roll Call \nPledge of Allegiance \n\nFirst Reading of Resolution 2025-27. An Emergency Resolution to Enter into a Memorandum of Understanding with Case Western Reserve University to Raise Awareness of Skin Cancer and Melanoma and Provide Free Sunscreen for Visitors at Parkview Pool and Adjacent Recreation Areas. (Requires suspension of the rules tonight and upon passage this legislation will take effect immediately upon signature of the Mayor.)\n\nAdjournment
URL:https://mayfieldvillage.com/event/council-caucus-24/
LOCATION:Civic Center\, 6622 Wilson Mills Rd\, Mayfield\, OH\, 44143\, United States
CATEGORIES:Council and committees
ORGANIZER;CN="Mary E. Betsa":MAILTO:mbetsa@mayfieldvillage.com
END:VEVENT
END:VCALENDAR