BEGIN:VCALENDAR
VERSION:2.0
PRODID:-//Mayfield Village - ECPv6.15.20//NONSGML v1.0//EN
CALSCALE:GREGORIAN
METHOD:PUBLISH
X-WR-CALNAME:Mayfield Village
X-ORIGINAL-URL:https://mayfieldvillage.com
X-WR-CALDESC:Events for Mayfield Village
REFRESH-INTERVAL;VALUE=DURATION:PT1H
X-Robots-Tag:noindex
X-PUBLISHED-TTL:PT1H
BEGIN:VTIMEZONE
TZID:America/New_York
BEGIN:DAYLIGHT
TZOFFSETFROM:-0500
TZOFFSETTO:-0400
TZNAME:EDT
DTSTART:20240310T070000
END:DAYLIGHT
BEGIN:STANDARD
TZOFFSETFROM:-0400
TZOFFSETTO:-0500
TZNAME:EST
DTSTART:20241103T060000
END:STANDARD
BEGIN:DAYLIGHT
TZOFFSETFROM:-0500
TZOFFSETTO:-0400
TZNAME:EDT
DTSTART:20250309T070000
END:DAYLIGHT
BEGIN:STANDARD
TZOFFSETFROM:-0400
TZOFFSETTO:-0500
TZNAME:EST
DTSTART:20251102T060000
END:STANDARD
BEGIN:DAYLIGHT
TZOFFSETFROM:-0500
TZOFFSETTO:-0400
TZNAME:EDT
DTSTART:20260308T070000
END:DAYLIGHT
BEGIN:STANDARD
TZOFFSETFROM:-0400
TZOFFSETTO:-0500
TZNAME:EST
DTSTART:20261101T060000
END:STANDARD
END:VTIMEZONE
BEGIN:VEVENT
DTSTART;TZID=America/New_York:20250521T180000
DTEND;TZID=America/New_York:20250521T190000
DTSTAMP:20260419T124609
CREATED:20250422T143129Z
LAST-MODIFIED:20250422T143158Z
UID:10000254-1747850400-1747854000@mayfieldvillage.com
SUMMARY:Recreation Board
DESCRIPTION:For information on Recreation Board\, please contact Danielle Echt at 440.461.5163. Meetings start at 6PM and may run shorter or longer than the allotted time slot. \nAgenda: \nMarch 20th meeting notes: \n\nDiscussion/Questions\n\nSpring Events Review: \n\nEaster Event\nMother’s Day Pancake Breakfast\n\nMayfield Memorial Scholarship in Honor of Debbie Hudacko: \n\nRecipients\n\nOpen Discussion \n 
URL:https://mayfieldvillage.com/event/recreation-board-7/
LOCATION:Civic Center\, 6622 Wilson Mills Rd\, Mayfield\, OH\, 44143\, United States
CATEGORIES:Council and committees
ORGANIZER;CN="Danielle Echt":MAILTO:decht@mayfieldvillage.com
END:VEVENT
END:VCALENDAR