BEGIN:VCALENDAR
VERSION:2.0
PRODID:-//Mayfield Village - ECPv6.15.20//NONSGML v1.0//EN
CALSCALE:GREGORIAN
METHOD:PUBLISH
X-ORIGINAL-URL:https://mayfieldvillage.com
X-WR-CALDESC:Events for Mayfield Village
REFRESH-INTERVAL;VALUE=DURATION:PT1H
X-Robots-Tag:noindex
X-PUBLISHED-TTL:PT1H
BEGIN:VTIMEZONE
TZID:America/New_York
BEGIN:DAYLIGHT
TZOFFSETFROM:-0500
TZOFFSETTO:-0400
TZNAME:EDT
DTSTART:20240310T070000
END:DAYLIGHT
BEGIN:STANDARD
TZOFFSETFROM:-0400
TZOFFSETTO:-0500
TZNAME:EST
DTSTART:20241103T060000
END:STANDARD
BEGIN:DAYLIGHT
TZOFFSETFROM:-0500
TZOFFSETTO:-0400
TZNAME:EDT
DTSTART:20250309T070000
END:DAYLIGHT
BEGIN:STANDARD
TZOFFSETFROM:-0400
TZOFFSETTO:-0500
TZNAME:EST
DTSTART:20251102T060000
END:STANDARD
BEGIN:DAYLIGHT
TZOFFSETFROM:-0500
TZOFFSETTO:-0400
TZNAME:EDT
DTSTART:20260308T070000
END:DAYLIGHT
BEGIN:STANDARD
TZOFFSETFROM:-0400
TZOFFSETTO:-0500
TZNAME:EST
DTSTART:20261101T060000
END:STANDARD
END:VTIMEZONE
BEGIN:VEVENT
DTSTART;TZID=America/New_York:20250424T180000
DTEND;TZID=America/New_York:20250424T190000
DTSTAMP:20260419T130902
CREATED:20250410T172005Z
LAST-MODIFIED:20250410T172005Z
UID:10000252-1745517600-1745521200@mayfieldvillage.com
SUMMARY:Architectural Review Board
DESCRIPTION:For information on ARB\, please contact Debbie Garbo at 440.461.2213. Meetings start at 6PM and may run shorter or longer than the allotted time slot. \nAgenda: \nConsideration of Minutes: April 10\, 2025 \nProposals: \n\nRooftop Solar Array\nPaul Simmons\n6777 Wildwood Trail\nKoby Electric\, Inc.\nAddition\nProgressive Insurance Co.\nBunker East Building\n300 North Commons Blvd.\nH.F. Lenz Co.\n(P&Z W/S 4.17.25)
URL:https://mayfieldvillage.com/event/architectural-review-board-43/
LOCATION:Civic Center\, 6622 Wilson Mills Rd\, Mayfield\, OH\, 44143\, United States
CATEGORIES:Council and committees
ORGANIZER;CN="Debbie Garbo":MAILTO:dgarbo@mayfieldvillage.com
END:VEVENT
END:VCALENDAR