BEGIN:VCALENDAR
VERSION:2.0
PRODID:-//Mayfield Village - ECPv6.15.20//NONSGML v1.0//EN
CALSCALE:GREGORIAN
METHOD:PUBLISH
X-WR-CALNAME:Mayfield Village
X-ORIGINAL-URL:https://mayfieldvillage.com
X-WR-CALDESC:Events for Mayfield Village
REFRESH-INTERVAL;VALUE=DURATION:PT1H
X-Robots-Tag:noindex
X-PUBLISHED-TTL:PT1H
BEGIN:VTIMEZONE
TZID:America/New_York
BEGIN:DAYLIGHT
TZOFFSETFROM:-0500
TZOFFSETTO:-0400
TZNAME:EDT
DTSTART:20240310T070000
END:DAYLIGHT
BEGIN:STANDARD
TZOFFSETFROM:-0400
TZOFFSETTO:-0500
TZNAME:EST
DTSTART:20241103T060000
END:STANDARD
BEGIN:DAYLIGHT
TZOFFSETFROM:-0500
TZOFFSETTO:-0400
TZNAME:EDT
DTSTART:20250309T070000
END:DAYLIGHT
BEGIN:STANDARD
TZOFFSETFROM:-0400
TZOFFSETTO:-0500
TZNAME:EST
DTSTART:20251102T060000
END:STANDARD
BEGIN:DAYLIGHT
TZOFFSETFROM:-0500
TZOFFSETTO:-0400
TZNAME:EDT
DTSTART:20260308T070000
END:DAYLIGHT
BEGIN:STANDARD
TZOFFSETFROM:-0400
TZOFFSETTO:-0500
TZNAME:EST
DTSTART:20261101T060000
END:STANDARD
END:VTIMEZONE
BEGIN:VEVENT
DTSTART;TZID=America/New_York:20250422T190000
DTEND;TZID=America/New_York:20250422T200000
DTSTAMP:20260419T144916
CREATED:20250312T144216Z
LAST-MODIFIED:20250312T144216Z
UID:10000242-1745348400-1745352000@mayfieldvillage.com
SUMMARY:Charter Review Commission
DESCRIPTION:For information on Charter Review meetings\, please contact Mary E. Betsa at 440.461.0862. Meeting begins 7:00PM and may run shorter or longer than the allotted time slot.
URL:https://mayfieldvillage.com/event/charter-review-commission-6/
LOCATION:Civic Center\, 6622 Wilson Mills Rd\, Mayfield\, OH\, 44143\, United States
CATEGORIES:Council and committees
ORGANIZER;CN="Mary E. Betsa":MAILTO:mbetsa@mayfieldvillage.com
END:VEVENT
END:VCALENDAR