BEGIN:VCALENDAR
VERSION:2.0
PRODID:-//Mayfield Village - ECPv6.15.20//NONSGML v1.0//EN
CALSCALE:GREGORIAN
METHOD:PUBLISH
X-WR-CALNAME:Mayfield Village
X-ORIGINAL-URL:https://mayfieldvillage.com
X-WR-CALDESC:Events for Mayfield Village
REFRESH-INTERVAL;VALUE=DURATION:PT1H
X-Robots-Tag:noindex
X-PUBLISHED-TTL:PT1H
BEGIN:VTIMEZONE
TZID:America/New_York
BEGIN:DAYLIGHT
TZOFFSETFROM:-0500
TZOFFSETTO:-0400
TZNAME:EDT
DTSTART:20240310T070000
END:DAYLIGHT
BEGIN:STANDARD
TZOFFSETFROM:-0400
TZOFFSETTO:-0500
TZNAME:EST
DTSTART:20241103T060000
END:STANDARD
BEGIN:DAYLIGHT
TZOFFSETFROM:-0500
TZOFFSETTO:-0400
TZNAME:EDT
DTSTART:20250309T070000
END:DAYLIGHT
BEGIN:STANDARD
TZOFFSETFROM:-0400
TZOFFSETTO:-0500
TZNAME:EST
DTSTART:20251102T060000
END:STANDARD
BEGIN:DAYLIGHT
TZOFFSETFROM:-0500
TZOFFSETTO:-0400
TZNAME:EDT
DTSTART:20260308T070000
END:DAYLIGHT
BEGIN:STANDARD
TZOFFSETFROM:-0400
TZOFFSETTO:-0500
TZNAME:EST
DTSTART:20261101T060000
END:STANDARD
END:VTIMEZONE
BEGIN:VEVENT
DTSTART;TZID=America/New_York:20250415T160000
DTEND;TZID=America/New_York:20250415T170000
DTSTAMP:20260423T194538
CREATED:20250403T130716Z
LAST-MODIFIED:20250415T155759Z
UID:10000250-1744732800-1744736400@mayfieldvillage.com
SUMMARY:Records Commission
DESCRIPTION:For more information on the Records Commission\, please contact Mary E. Betsa at 440.461.0862. \nAgenda: \n\nMayor’s designation of Chairperson\nApproval of Minutes: October 21\, 2024\nReview and approve any Disposal Lists submitted by Village Departments\nReview of Revised Public Records Policy and Request for Public Records\nPublic Records Requests\nLegislative Updates\nShred Day: May 17th\, 2025 from 9am-12pm
URL:https://mayfieldvillage.com/event/records-commission-2/
LOCATION:Civic Center\, 6622 Wilson Mills Rd\, Mayfield\, OH\, 44143\, United States
CATEGORIES:Council and committees
ORGANIZER;CN="Mary E. Betsa":MAILTO:mbetsa@mayfieldvillage.com
END:VEVENT
BEGIN:VEVENT
DTSTART;TZID=America/New_York:20250415T180000
DTEND;TZID=America/New_York:20250415T190000
DTSTAMP:20260423T194538
CREATED:20250107T145709Z
LAST-MODIFIED:20250408T141755Z
UID:10000212-1744740000-1744743600@mayfieldvillage.com
SUMMARY:Board of Zoning Appeals
DESCRIPTION:For information on BZA\, please contact Debbie Garbo at 440.461.2213. Meetings start at 6PM and may run shorter or longer than the allotted time slot.
URL:https://mayfieldvillage.com/event/board-of-zoning-appeals-21/
LOCATION:Civic Center\, 6622 Wilson Mills Rd\, Mayfield\, OH\, 44143\, United States
CATEGORIES:Council and committees
ORGANIZER;CN="Debbie Garbo":MAILTO:dgarbo@mayfieldvillage.com
END:VEVENT
END:VCALENDAR