BEGIN:VCALENDAR
VERSION:2.0
PRODID:-//Mayfield Village - ECPv6.15.20//NONSGML v1.0//EN
CALSCALE:GREGORIAN
METHOD:PUBLISH
X-ORIGINAL-URL:https://mayfieldvillage.com
X-WR-CALDESC:Events for Mayfield Village
REFRESH-INTERVAL;VALUE=DURATION:PT1H
X-Robots-Tag:noindex
X-PUBLISHED-TTL:PT1H
BEGIN:VTIMEZONE
TZID:America/New_York
BEGIN:DAYLIGHT
TZOFFSETFROM:-0500
TZOFFSETTO:-0400
TZNAME:EDT
DTSTART:20240310T070000
END:DAYLIGHT
BEGIN:STANDARD
TZOFFSETFROM:-0400
TZOFFSETTO:-0500
TZNAME:EST
DTSTART:20241103T060000
END:STANDARD
BEGIN:DAYLIGHT
TZOFFSETFROM:-0500
TZOFFSETTO:-0400
TZNAME:EDT
DTSTART:20250309T070000
END:DAYLIGHT
BEGIN:STANDARD
TZOFFSETFROM:-0400
TZOFFSETTO:-0500
TZNAME:EST
DTSTART:20251102T060000
END:STANDARD
BEGIN:DAYLIGHT
TZOFFSETFROM:-0500
TZOFFSETTO:-0400
TZNAME:EDT
DTSTART:20260308T070000
END:DAYLIGHT
BEGIN:STANDARD
TZOFFSETFROM:-0400
TZOFFSETTO:-0500
TZNAME:EST
DTSTART:20261101T060000
END:STANDARD
END:VTIMEZONE
BEGIN:VEVENT
DTSTART;TZID=America/New_York:20250220T180000
DTEND;TZID=America/New_York:20250220T190000
DTSTAMP:20260421T201152
CREATED:20250211T161958Z
LAST-MODIFIED:20250214T174157Z
UID:10000228-1740074400-1740078000@mayfieldvillage.com
SUMMARY:Planning & Zoning Commission
DESCRIPTION:For information on P&Z\, please contact Debbie Garbo at 440.461.2213. Meetings start at 6PM and may run shorter or longer than the allotted time slot. \nAgenda: \nProposal: \n\nRezoning of Property (15.57 acres)\nEconomic Development\nSingle Family to Production/Distribution\nPremier Mayfield\, LLC\nGunton Corp. (Pella Windows)\n\n(Council meeting February 17\, 2025 for consideration of Resolution 2024-71 and referral to P&Z) \n\nPPN 831-04-001 un-named White Rd.\nPPN 831-04-002 6488 White Rd.\nPPN 831-04-003 6504 White Rd.\nPPN 831-05-001 6516 White Rd.\nPPN 831-05-002 6524 White Rd.\nPPN 831-05-003 6532 White Rd.\nPPN 831-05-004 6540 North Commons Blvd.
URL:https://mayfieldvillage.com/event/planning-zoning-commission-31/
LOCATION:Civic Center\, 6622 Wilson Mills Rd\, Mayfield\, OH\, 44143\, United States
CATEGORIES:Council and committees
END:VEVENT
END:VCALENDAR