BEGIN:VCALENDAR
VERSION:2.0
PRODID:-//Mayfield Village - ECPv6.15.20//NONSGML v1.0//EN
CALSCALE:GREGORIAN
METHOD:PUBLISH
X-ORIGINAL-URL:https://mayfieldvillage.com
X-WR-CALDESC:Events for Mayfield Village
REFRESH-INTERVAL;VALUE=DURATION:PT1H
X-Robots-Tag:noindex
X-PUBLISHED-TTL:PT1H
BEGIN:VTIMEZONE
TZID:America/New_York
BEGIN:DAYLIGHT
TZOFFSETFROM:-0500
TZOFFSETTO:-0400
TZNAME:EDT
DTSTART:20230312T070000
END:DAYLIGHT
BEGIN:STANDARD
TZOFFSETFROM:-0400
TZOFFSETTO:-0500
TZNAME:EST
DTSTART:20231105T060000
END:STANDARD
BEGIN:DAYLIGHT
TZOFFSETFROM:-0500
TZOFFSETTO:-0400
TZNAME:EDT
DTSTART:20240310T070000
END:DAYLIGHT
BEGIN:STANDARD
TZOFFSETFROM:-0400
TZOFFSETTO:-0500
TZNAME:EST
DTSTART:20241103T060000
END:STANDARD
BEGIN:DAYLIGHT
TZOFFSETFROM:-0500
TZOFFSETTO:-0400
TZNAME:EDT
DTSTART:20250309T070000
END:DAYLIGHT
BEGIN:STANDARD
TZOFFSETFROM:-0400
TZOFFSETTO:-0500
TZNAME:EST
DTSTART:20251102T060000
END:STANDARD
END:VTIMEZONE
BEGIN:VEVENT
DTSTART;TZID=America/New_York:20241112T180000
DTEND;TZID=America/New_York:20241112T190000
DTSTAMP:20260419T124645
CREATED:20241017T150659Z
LAST-MODIFIED:20241029T153827Z
UID:10000177-1731434400-1731438000@mayfieldvillage.com
SUMMARY:Recreation Board
DESCRIPTION:For information on Recreation Board\, please contact Danielle Echt at 440.461.5163. Meetings start at 6PM and may run shorter or longer than the allotted time slot. \nAgenda: \nMayfield Memorial Scholarship Update \nTrick or Treat Trail Review \nFall/Winter 2024 Update: \n\nSenior Holiday Party\nThurs.\, December 5\, 12:00-2:00 pm\nTree Lighting\nFri.\, December 6\, 6:00-7:00 pm\nVolunteers needed\nBreakfast w/ Santa (8:30-10:30 am)/Santa Float (11:00 am – 4:00 pm)\nSat.\, December 7\, volunteers needed for breakfast\nMenorah Lighting\nThurs.\, December 6\, 6:00-7;00 pm\n\nOpen Discussion
URL:https://mayfieldvillage.com/event/recreation-board-6/
LOCATION:Civic Center\, 6622 Wilson Mills Rd\, Mayfield\, OH\, 44143\, United States
ORGANIZER;CN="Danielle Echt":MAILTO:decht@mayfieldvillage.com
END:VEVENT
END:VCALENDAR